BEGIN:VCALENDAR
VERSION:2.0
PRODID:-//hacksw/handcal//NONSGML v1.0//EN
BEGIN:VEVENT
SUMMARY:Open Boccia inter-departemental (50 et 61) a Saint-Hilaire-du-Harcouet
UID:bcde6043-3888-425c-bed0-449f47384dd2
DTSTART:20260617T060000Z
DTEND:20260617T150000Z
LOCATION:Localisation   
CATEGORIES:Sportif
STATUS:
URL;VALUE=URI:https://cdh50.sportsregions.fr/evenements/2026/06/17/open-boccia-inter-departemental-50-et-61-a-saint-hilaire-du-harcouet-2430322
END:VEVENT
END:VCALENDAR
